BEGIN:VCALENDAR
VERSION:2.0
PRODID:-//eventon.com NONSGML v1.0//EN
BEGIN:VEVENT
UID:69e744f2815db
DTSTAMP:20260421T103546
DTSTART:20260426T110000Z
DTEND:20260426T030000Z
LOCATION:Thornycroft Hall Thornycroft Hall Pexhill Rd Macclesfield SK11 9JN
SUMMARY:Paella Lunch
DESCRIPTION: Bring your family and friends to Thornycroft for paella on Sunday 26th April from 130pm to 4pm. Adults £10 and families £15. Holy Mass with be at 12pm for those who would like to go. All proceeds to the annexe refurbishment.
END:VEVENT
END:VCALENDAR