BEGIN:VCALENDAR
VERSION:2.0
PRODID:-//eventon.com NONSGML v1.0//EN
BEGIN:VEVENT
UID:69ebb19def40d
DTSTAMP:20260424T190829
DTSTART:20211212T140000Z
DTEND:20211212T163000Z
LOCATION:Thornycroft Hall Thornycroft Hall Pexhill Rd Macclesfield SK11 9JN
SUMMARY:Christmas carol concert
DESCRIPTION: For 2021 there will be no formal carol concert. Instead we will meet informally between 3-5pm to sing carols\,  enjoy a drink with some mince pies. Due to the pandemic numbers will be limited and there will be no entry ticket. Instead we will raffle a hamper and any donations[..]
END:VEVENT
END:VCALENDAR