BEGIN:VCALENDAR
VERSION:2.0
PRODID:-//eventon.com NONSGML v1.0//EN
BEGIN:VEVENT
UID:69ebb1853a146
DTSTAMP:20260424T190805
DTSTART:20211211T133000Z
DTEND:20211211T160000Z
LOCATION:Thornycroft Hall Thornycroft Hall Pexhill Rd Macclesfield SK11 9JN
SUMMARY:Cookery School: Festive Christmas menu
DESCRIPTION: Cost - £30 payable on the day.
END:VEVENT
END:VCALENDAR