BEGIN:VCALENDAR
VERSION:2.0
PRODID:-//eventon.com NONSGML v1.0//EN
BEGIN:VEVENT
UID:69eb9e4ba1b3b
DTSTAMP:20260424T174603
DTSTART:20211106T133000Z
DTEND:20211106T160000Z
LOCATION:Thornycroft Hall Thornycroft Hall Pexhill Rd Macclesfield SK11 9JN
SUMMARY:Cookery School: Cooking on a budget
DESCRIPTION: Cost - £30 payable on the day.
END:VEVENT
END:VCALENDAR