BEGIN:VCALENDAR
VERSION:2.0
PRODID:-//eventon.com NONSGML v1.0//EN
BEGIN:VEVENT
UID:69eb9eb76a1b2
DTSTAMP:20260424T174751
DTSTART:20211002T133000Z
DTEND:20211002T160000Z
LOCATION:Thornycroft Hall Thornycroft Hall Pexhill Rd Macclesfield SK11 9JN
SUMMARY:Cookery School: Quick and healthy vegetable-based cooking
DESCRIPTION: Cost - £30 payable on the day.
END:VEVENT
END:VCALENDAR