BEGIN:VCALENDAR
VERSION:2.0
PRODID:-//eventon.com NONSGML v1.0//EN
BEGIN:VEVENT
UID:69eb9e8b1c74b
DTSTAMP:20260424T174707
DTSTART:20211015T183000Z
DTEND:20211016T181500Z
LOCATION:Thornycroft Hall Thornycroft Hall Pexhill Rd Macclesfield SK11 9JN
SUMMARY:Workshop for Women: Deeper into the Divine Adventure
DESCRIPTION: Dive deeper into the divine adventure with God and refresh and boost your spiritual life and learn more about the Catholic Church. Find out more
END:VEVENT
END:VCALENDAR