BEGIN:VCALENDAR
VERSION:2.0
PRODID:-//eventon.com NONSGML v1.0//EN
BEGIN:VEVENT
UID:69ebb11d30436
DTSTAMP:20260424T190621
DTSTART:20211209T100000Z
DTEND:20211209T153000Z
LOCATION:Thornycroft Hall Thornycroft Hall Pexhill Rd Macclesfield SK11 9JN
SUMMARY:Recollection for secular clergy
DESCRIPTION: Recollection for secular clergy
END:VEVENT
END:VCALENDAR