BEGIN:VCALENDAR
VERSION:2.0
PRODID:-//eventon.com NONSGML v1.0//EN
BEGIN:VEVENT
UID:69eb9eb8a7ecb
DTSTAMP:20260424T174752
DTSTART:20211104T100000Z
DTEND:20211104T153000Z
LOCATION:Thornycroft Hall Thornycroft Hall Pexhill Rd Macclesfield SK11 9JN
SUMMARY:Recollection for secular clergy
DESCRIPTION: Recollection for secular clergy
END:VEVENT
END:VCALENDAR