BEGIN:VCALENDAR
VERSION:2.0
PRODID:-//eventon.com NONSGML v1.0//EN
BEGIN:VEVENT
UID:69ebb1be6e4b2
DTSTAMP:20260424T190902
DTSTART:20211007T100000Z
DTEND:20211007T153000Z
LOCATION:Thornycroft Hall Thornycroft Hall Pexhill Rd Macclesfield SK11 9JN
SUMMARY:Recollection for secular clergy
DESCRIPTION: Recollection for secular clergy
END:VEVENT
END:VCALENDAR