BEGIN:VCALENDAR
VERSION:2.0
PRODID:-//eventon.com NONSGML v1.0//EN
BEGIN:VEVENT
UID:69eb9deba9a07
DTSTAMP:20260424T174427
DTSTART:20211029T180000Z
DTEND:20211031T163000Z
LOCATION:Thornycroft Hall Thornycroft Hall Pexhill Rd Macclesfield SK11 9JN
SUMMARY:Workshop for men - Philosophical Anthropology: a reflection on the nature of man
DESCRIPTION: Find out more
END:VEVENT
END:VCALENDAR