BEGIN:VCALENDAR
VERSION:2.0
PRODID:-//eventon.com NONSGML v1.0//EN
BEGIN:VEVENT
UID:69eb9ea7131b7
DTSTAMP:20260424T174735
DTSTART:20211119T193000Z
DTEND:20211121T143000Z
LOCATION:Thornycroft Hall Thornycroft Hall Pexhill Rd Macclesfield SK11 9JN
SUMMARY:Retreat for students and young professional men
DESCRIPTION: For further details and how to apply visit the retreat page and select either Male student or Young professional men page that is appropriate to you. link
END:VEVENT
END:VCALENDAR