BEGIN:VCALENDAR
VERSION:2.0
PRODID:-//eventon.com NONSGML v1.0//EN
BEGIN:VEVENT
UID:69eb9e4ce825c
DTSTAMP:20260424T174604
DTSTART:20211011T183000Z
DTEND:20211015T130000Z
LOCATION:Thornycroft Hall Thornycroft Hall Pexhill Rd Macclesfield SK11 9JN
SUMMARY:Retreat for secular clergy
DESCRIPTION: Retreat for secular clergy
END:VEVENT
END:VCALENDAR