BEGIN:VCALENDAR
VERSION:2.0
PRODID:-//eventon.com NONSGML v1.0//EN
BEGIN:VEVENT
UID:69eb9e4c75d33
DTSTAMP:20260424T174604
DTSTART:20211111T193000Z
DTEND:20211114T143000Z
LOCATION:Thornycroft Hall Thornycroft Hall Pexhill Rd Macclesfield SK11 9JN
SUMMARY:Retreat for men
DESCRIPTION: Retreat for men
END:VEVENT
END:VCALENDAR