BEGIN:VCALENDAR
VERSION:2.0
PRODID:-//eventon.com NONSGML v1.0//EN
BEGIN:VEVENT
UID:69eb9e8a4e59d
DTSTAMP:20260424T174706
DTSTART:20210427T183000Z
DTEND:20210427T200000Z
LOCATION:
SUMMARY:Ladies recollection via zoom
DESCRIPTION: To register your interest in this online event please visit the [button link="https://thornycrofthall.org.uk/contact-us/"]   Contact Us page   [/button] and submit your contact details and the date of the event/s you wish to attend so that we can send you your Zoom meeting invite/s
END:VEVENT
END:VCALENDAR