BEGIN:VCALENDAR
VERSION:2.0
PRODID:-//eventon.com NONSGML v1.0//EN
BEGIN:VEVENT
UID:69ebb11d2fc6e
DTSTAMP:20260424T190621
DTSTART:20210513T230000Z
DTEND:20210514T225900Z
LOCATION:Thornycroft Hall Thornycroft Hall Pexhill Rd Macclesfield SK11 9JN
SUMMARY:Thornycroft conference
DESCRIPTION: Details to follow
END:VEVENT
END:VCALENDAR