BEGIN:VCALENDAR
VERSION:2.0
PRODID:-//eventon.com NONSGML v1.0//EN
BEGIN:VEVENT
UID:69eb9dec2aa43
DTSTAMP:20260424T174428
DTSTART:20210430T193000Z
DTEND:20210503T143000Z
LOCATION:Thornycroft Hall Thornycroft Hall Pexhill Rd Macclesfield SK11 9JN
SUMMARY:Retreat for young professional men
DESCRIPTION: To facilitate social distancing between participants\,  only 13 places are available on each retreat.  Other than when they are in their own room or in the dining room\,  participants must wear a mask. A buffet meal will NOT be served on the first night of the retreat. To avoid overbooking and confusion we[..]
END:VEVENT
END:VCALENDAR