BEGIN:VCALENDAR
VERSION:2.0
PRODID:-//eventon.com NONSGML v1.0//EN
BEGIN:VEVENT
UID:69eb9dd2c8d59
DTSTAMP:20260424T174402
DTSTART:20210328T230000Z
DTEND:20210331T225900Z
LOCATION:Thornycroft Hall Thornycroft Hall Pexhill Rd Macclesfield SK11 9JN
SUMMARY:Boys Study Course
DESCRIPTION: Details to follow
END:VEVENT
END:VCALENDAR