BEGIN:VCALENDAR
VERSION:2.0
PRODID:-//eventon.com NONSGML v1.0//EN
BEGIN:VEVENT
UID:69eb9df35fbee
DTSTAMP:20260424T174435
DTSTART:20210312T083000Z
DTEND:20210314T120000Z
LOCATION:
SUMMARY:Retreat for men (Online only)
DESCRIPTION: This is an online only event The retreat will include meditations\,  talks and devotions such as the Stations of the Cross and the Holy Rosary. Schedule • Friday 12th March: 9.30am – 9.00 pm; • Saturday 13th March: 10.00 am – 9.00 pm; • Sunday 14th March: 10.00 am –[..]
END:VEVENT
END:VCALENDAR