BEGIN:VCALENDAR
VERSION:2.0
PRODID:-//eventon.com NONSGML v1.0//EN
BEGIN:VEVENT
UID:69eb9e8b94142
DTSTAMP:20260424T174707
DTSTART:20210205T193000Z
DTEND:20210207T143000Z
LOCATION:Thornycroft Hall Thornycroft Hall Pexhill Rd Macclesfield SK11 9JN
SUMMARY:Retreat for male school students
DESCRIPTION: A retreat is a time spent away from your ordinary occupation\,  when you can reflect on how you live your faith in you everyday work\,  with your family and with other people. The atmosphere of personal prayer and recollection which is maintained throughout helps you to consider all aspects of[..]
END:VEVENT
END:VCALENDAR