BEGIN:VCALENDAR
VERSION:2.0
PRODID:-//eventon.com NONSGML v1.0//EN
BEGIN:VEVENT
UID:69eb9e2ac0f67
DTSTAMP:20260424T174530
DTSTART:20210603T100000Z
DTEND:20210603T153000Z
LOCATION:Thornycroft Hall Thornycroft Hall Pexhill Rd Macclesfield SK11 9JN
SUMMARY:Recollection for secular clergy
DESCRIPTION: Recollection for secular clergy
END:VEVENT
END:VCALENDAR