BEGIN:VCALENDAR
VERSION:2.0
PRODID:-//eventon.com NONSGML v1.0//EN
BEGIN:VEVENT
UID:69eb9e2bb58b0
DTSTAMP:20260424T174531
DTSTART:20210401T100000Z
DTEND:20210401T153000Z
LOCATION:Thornycroft Hall Thornycroft Hall Pexhill Rd Macclesfield SK11 9JN
SUMMARY:Recollection for secular clergy
DESCRIPTION: Monthly recollection provide time for personal prayer and reflection on different aspects of Christian life. Further details and how to book a place
END:VEVENT
END:VCALENDAR