BEGIN:VCALENDAR
VERSION:2.0
PRODID:-//eventon.com NONSGML v1.0//EN
BEGIN:VEVENT
UID:69eb9e5a7b403
DTSTAMP:20260424T174618
DTSTART:20210304T100000Z
DTEND:20210304T153000Z
LOCATION:Thornycroft Hall Thornycroft Hall Pexhill Rd Macclesfield SK11 9JN
SUMMARY:Recollection for secular clergy
DESCRIPTION: Sorry event cancelled. For details of online recollections and possible forthcoming retreats\,  contact Fr Joe Evans on frjoe153@gmail.com
END:VEVENT
END:VCALENDAR